BEGIN:VCALENDAR
VERSION:2.0
PRODID:-//Access Space - ECPv6.15.20//NONSGML v1.0//EN
CALSCALE:GREGORIAN
METHOD:PUBLISH
X-WR-CALNAME:Access Space
X-ORIGINAL-URL:https://access-space.org
X-WR-CALDESC:Events for Access Space
REFRESH-INTERVAL;VALUE=DURATION:PT1H
X-Robots-Tag:noindex
X-PUBLISHED-TTL:PT1H
BEGIN:VTIMEZONE
TZID:Europe/London
BEGIN:DAYLIGHT
TZOFFSETFROM:+0000
TZOFFSETTO:+0100
TZNAME:BST
DTSTART:20170326T010000
END:DAYLIGHT
BEGIN:STANDARD
TZOFFSETFROM:+0100
TZOFFSETTO:+0000
TZNAME:GMT
DTSTART:20171029T010000
END:STANDARD
BEGIN:DAYLIGHT
TZOFFSETFROM:+0000
TZOFFSETTO:+0100
TZNAME:BST
DTSTART:20180325T010000
END:DAYLIGHT
BEGIN:STANDARD
TZOFFSETFROM:+0100
TZOFFSETTO:+0000
TZNAME:GMT
DTSTART:20181028T010000
END:STANDARD
BEGIN:DAYLIGHT
TZOFFSETFROM:+0000
TZOFFSETTO:+0100
TZNAME:BST
DTSTART:20190331T010000
END:DAYLIGHT
BEGIN:STANDARD
TZOFFSETFROM:+0100
TZOFFSETTO:+0000
TZNAME:GMT
DTSTART:20191027T010000
END:STANDARD
END:VTIMEZONE
BEGIN:VEVENT
DTSTART;TZID=Europe/London:20180428T200000
DTEND;TZID=Europe/London:20180428T230000
DTSTAMP:20260421T135434
CREATED:20180404T152119Z
LAST-MODIFIED:20180404T152119Z
UID:2286-1524945600-1524956400@access-space.org
SUMMARY:Computer Music Showcase #1
DESCRIPTION:8pm-11pm\, 28th April 2018\nTickets £5 + booking (£7 otd)\nAccess Space\, Sidney Street\, S1 2AY \nFirst in a potential series\, highlighting the latest moves in extreme pattern synthesis and algorithmic music. \nDouble top billing: \n\n\n\nRian Treanor\nAngular algorithmic rhythms from RotherhamOut now: Contraposition EP (Arcola)\nRenick Bell\nProlific live coder on European tour from TokyoOut now: Wary LP (Halcyon Veil)\n\n\n\n+ residents join forces: \nHeavy Lifting x Yaxu collaborate using free music technology handmade in Yorkshire.
URL:https://access-space.org/event/cms1-2/
LOCATION:Access Space\, AVEC Building\, 3-7 Sidney St\, Sheffield\, South Yorkshire\, S1 4RG\, United Kingdom
CATEGORIES:Algorave,Computer Music,Music
ATTACH;FMTTYPE=image/jpeg:https://access-space.org/wp-content/uploads/sites/3/2018/04/display_rab.jpg
END:VEVENT
BEGIN:VEVENT
DTSTART;TZID=Europe/London:20180428T200000
DTEND;TZID=Europe/London:20180428T230000
DTSTAMP:20260421T135434
CREATED:20180404T152119Z
LAST-MODIFIED:20180404T152119Z
UID:2449-1524945600-1524956400@access-space.org
SUMMARY:Computer Music Showcase #1
DESCRIPTION:8pm-11pm\, 28th April 2018\nTickets £5 + booking (£7 otd)\nAccess Space\, Sidney Street\, S1 2AY \nFirst in a potential series\, highlighting the latest moves in extreme pattern synthesis and algorithmic music. \nDouble top billing: \n\n\n\nRian Treanor\nAngular algorithmic rhythms from RotherhamOut now: Contraposition EP (Arcola)\nRenick Bell\nProlific live coder on European tour from TokyoOut now: Wary LP (Halcyon Veil)\n\n\n\n+ residents join forces: \nHeavy Lifting x Yaxu collaborate using free music technology handmade in Yorkshire.
URL:https://access-space.org/event/cms1-5/
LOCATION:Access Space\, AVEC Building\, 3-7 Sidney St\, Sheffield\, South Yorkshire\, S1 4RG\, United Kingdom
CATEGORIES:Algorave,Computer Music,Music
ATTACH;FMTTYPE=image/jpeg:https://access-space.org/wp-content/uploads/sites/3/2018/04/display_rab.jpg
END:VEVENT
BEGIN:VEVENT
DTSTART;TZID=Europe/London:20180428T200000
DTEND;TZID=Europe/London:20180428T230000
DTSTAMP:20260421T135434
CREATED:20180404T152119Z
LAST-MODIFIED:20180404T152119Z
UID:2337-1524945600-1524956400@access-space.org
SUMMARY:Computer Music Showcase #1
DESCRIPTION:8pm-11pm\, 28th April 2018\nTickets £5 + booking (£7 otd)\nAccess Space\, Sidney Street\, S1 2AY \nFirst in a potential series\, highlighting the latest moves in extreme pattern synthesis and algorithmic music. \nDouble top billing: \n\n\n\nRian Treanor\nAngular algorithmic rhythms from RotherhamOut now: Contraposition EP (Arcola)\nRenick Bell\nProlific live coder on European tour from TokyoOut now: Wary LP (Halcyon Veil)\n\n\n\n+ residents join forces: \nHeavy Lifting x Yaxu collaborate using free music technology handmade in Yorkshire.
URL:https://access-space.org/event/cms1-3/
LOCATION:Access Space\, AVEC Building\, 3-7 Sidney St\, Sheffield\, South Yorkshire\, S1 4RG\, United Kingdom
CATEGORIES:Algorave,Computer Music,Music
ATTACH;FMTTYPE=image/jpeg:https://access-space.org/wp-content/uploads/sites/3/2018/04/display_rab.jpg
END:VEVENT
END:VCALENDAR